BEGIN:VCALENDAR
VERSION:2.0
PRODID:-//eventon.com NONSGML v1.0//EN
BEGIN:VEVENT
UID:69e8936a34861
DTSTAMP:20260422T052250
DTSTART:20210708T233000Z
DTEND:20210709T020000Z
LOCATION:Marché aux puces (entrée par le chemin du Lac-Écho) 
SUMMARY:MARCO CALLIARI / PRÉVOST
DESCRIPTION: Site du Marché aux puces de Prévost\,  sur le Chemin du Lac Écho (Internet dit sur le boulevard du Curé-Labelle\,  mais on peut accéder au site par le chemin du Lac-Écho. formule style Ciné-parc avec une scène mobile de type T50. Spectacle Gratuit Marco Calliari – Bang! Bang! MARCO CALLIARI EN[..]
END:VEVENT
END:VCALENDAR