BEGIN:VCALENDAR
VERSION:2.0
PRODID:-//eventon.com NONSGML v1.0//EN
BEGIN:VEVENT
UID:69e892e7b058b
DTSTAMP:20260422T052039
DTSTART:20220616T000000Z
DTEND:20220616T013000Z
LOCATION:Maison des arts Desjardins Drummondville 175 Rue Ringuet\,  Drummondville\,  QC J2C 2P7
SUMMARY:MARCO CALLIARI & MAMSELLE RUIZ / DRUMMONDVILLE
DESCRIPTION: Les deux artistes s'unissent dans ce spectacle spécial pour vous faire voyager en chansons entre le Québec\,  l'Italie et le Mexique. Dépaysement garanti! Spectacle en trio : Marco Calliari\,  Mamselle Ruiz et Tim S. Savard (Multi instrumentiste) &nbsp;
END:VEVENT
END:VCALENDAR