BEGIN:VCALENDAR
VERSION:2.0
PRODID:-//eventon.com NONSGML v1.0//EN
BEGIN:VEVENT
UID:69e73e246139e
DTSTAMP:20260421T050644
DTSTART:20200920T183000Z
DTEND:20200920T190000Z
LOCATION:
SUMMARY:MARCO CALLIARI (PERFO AVEC CIRQUE) /LA POCATIÈRE (ANNULÉ/REPORTÉ)
DESCRIPTION: Surprise...
END:VEVENT
END:VCALENDAR