BEGIN:VCALENDAR
VERSION:2.0
PRODID:-//eventon.com NONSGML v1.0//EN
BEGIN:VEVENT
UID:69e6254423711
DTSTAMP:20260420T090820
DTSTART:20200917T141500Z
DTEND:20200917T144500Z
LOCATION:Parc Monk 
SUMMARY:MARCO CALLIARI (PERFO AVEC CIRQUE) / MONTRÉAL (PIERREFONDS-ROXBORO)
DESCRIPTION: Surprise...
END:VEVENT
END:VCALENDAR