BEGIN:VCALENDAR
VERSION:2.0
PRODID:-//eventon.com NONSGML v1.0//EN
BEGIN:VEVENT
UID:69e8936479517
DTSTAMP:20260422T052244
DTSTART:20200819T223000Z
DTEND:20200819T230000Z
LOCATION:Parc Parkinson Boul de Pierrefonds\,  Montréal\,  QC H8Y 3E1
SUMMARY:MARCO CALLIARI (PERFO AVEC CIRQUE) / MONTRÉAL (PIERREFONDS-ROXBORO)
DESCRIPTION: Surprise...
END:VEVENT
END:VCALENDAR