BEGIN:VCALENDAR
VERSION:2.0
PRODID:-//eventon.com NONSGML v1.0//EN
BEGIN:VEVENT
UID:69e8930c87e8f
DTSTAMP:20260422T052116
DTSTART:20200819T210000Z
DTEND:20200819T213000Z
LOCATION:Parc Cyril-W.-McDonald 4462 Rue Graham\,  Pierrefonds\,  QC H9H 2C2
SUMMARY:MARCO CALLIARI (PERFO AVEC CIRQUE) / MONTRÉAL (PIERREFONDS-ROXBORO)
DESCRIPTION: Surprise...
END:VEVENT
END:VCALENDAR