BEGIN:VCALENDAR
VERSION:2.0
PRODID:-//eventon.com NONSGML v1.0//EN
BEGIN:VEVENT
UID:69e892e7b016b
DTSTAMP:20260422T052039
DTSTART:20200728T150500Z
DTEND:20200728T153500Z
LOCATION:14900 rue Oakwood (Parc Alexander) 14900 rue Oakwood (Parc Alexander)
SUMMARY:MARCO CALLIARI (PERFO AVEC CIRQUE) / MONTRÉAL-PIERREFONDS-ROXBORO
DESCRIPTION: Surprise...
END:VEVENT
END:VCALENDAR