BEGIN:VCALENDAR
VERSION:2.0
PRODID:-//eventon.com NONSGML v1.0//EN
BEGIN:VEVENT
UID:69e892f93ad70
DTSTAMP:20260422T052057
DTSTART:20200701T170000Z
DTEND:20200701T174500Z
LOCATION:Coop d&#039;habitation Village Cloverdale 4650 rue Alexander
SUMMARY:MARCO CALLIARI (PERFO AVEC CIRQUE) / PIERREFONDS-ROXBORO
DESCRIPTION: Surprise...
END:VEVENT
END:VCALENDAR