BEGIN:VCALENDAR
VERSION:2.0
PRODID:-//eventon.com NONSGML v1.0//EN
BEGIN:VEVENT
UID:69e8a97519e7e
DTSTAMP:20260422T065653
DTSTART:20191012T233000Z
DTEND:20191013T050000Z
LOCATION:Manège du Parc Équestre de Blainville 1025 rue Chemin du Plan Bouchard
SUMMARY:MARCO CALLIARI (AUTISTE SHOW AVEC PLUSIEURS ARTISTES INVITÉS)/ BLAINVILLE
DESCRIPTION: Autiste Show 2019 L'Autiste Show aura lieu le samedi 12 octobre 2019 au Caroussel du Parc Équestre de Blainville\,  1025 rue Chemin du Plan Bouchard\,  Blainville. Lien vers google map Ce spectacle bénéfice met en scène plusieurs artistes connus qui vous interpréterons leurs compositions ainsi que des classiques du Rock. Certains[..]
END:VEVENT
END:VCALENDAR