BEGIN:VCALENDAR
VERSION:2.0
PRODID:-//eventon.com NONSGML v1.0//EN
BEGIN:VEVENT
UID:69e736aa56e8a
DTSTAMP:20260421T043450
DTSTART:20190809T003000Z
DTEND:20190809T020000Z
LOCATION:Scène Hydro-Québec Rue Racine
SUMMARY:PEPPE VOLTARELLI / SAGUENAY (CHICOUTIMI)
DESCRIPTION: MARCO CALLIARI Présente directement d'Italie 🇮🇹 PEPPE VOLTARELLI Peppe Voltarelli est natif de la Calabria\,  dans le sud de l'Italie. Cet acteur-auteur-compositeur-interprète incarne sur scène comme sur écran un personnage intense du stéréotype italien. Sa musique\,  tout aussi colorée que son personnage\,  est très influencée par Roy Paci\,  grand trompettiste[..]
END:VEVENT
END:VCALENDAR