BEGIN:VCALENDAR
VERSION:2.0
PRODID:-//eventon.com NONSGML v1.0//EN
BEGIN:VEVENT
UID:69e73c50a91ac
DTSTAMP:20260421T045856
DTSTART:20190703T230000Z
DTEND:20190704T010000Z
LOCATION:Maison du meunier (Parc de l&#039;Île de la Visitation) 10897 rue Du pont
SUMMARY:RADIO LAUSBERG / MONTRÉAL
DESCRIPTION: CONCERTI SOUS LA PERGOLA MARCO CALLIARI Présente directement d'Italie RADIO LAUSBERG Radio Lausberg est un projet musical de la région calabraise-lucanaise appelé "Area Lausberg"\,  qui associe des instruments et des sons ethniques à une écriture / folk plus classique. Radio Lausberg sont Giuseppe Oliveto (voix\,  multi-instrumentiste)\,  Luca Oliveto (piano\,  voix\, [..]
END:VEVENT
END:VCALENDAR