BEGIN:VCALENDAR
VERSION:2.0
PRODID:-//eventon.com NONSGML v1.0//EN
BEGIN:VEVENT
UID:69e8930c84afa
DTSTAMP:20260422T052116
DTSTART:20190618T233000Z
DTEND:20190618T043000Z
LOCATION:Brulerie de la Rivière 732 St-Pierre\,   J6w 1E2
SUMMARY:RADIO LAUSBERG / TERREBONNE
DESCRIPTION: MARCO CALLIARI Présente directement d'Italie 🇮🇹 RADIO LAUSBERG en formule trio Première tournée en Amérique! Radio Lausberg est un projet musical de la région calabraise-lucanaise appelé "Area Lausberg"\,  qui associe des instruments et des sons ethniques à une écriture / folk plus classique. Radio Lausberg sont Giuseppe Oliveto (voix\,  multi-instrumentiste)\, [..]
END:VEVENT
END:VCALENDAR