BEGIN:VCALENDAR
VERSION:2.0
PRODID:-//eventon.com NONSGML v1.0//EN
BEGIN:VEVENT
UID:69ea358e171e5
DTSTAMP:20260423T110654
DTSTART:20261024T000000Z
DTEND:20261024T023000Z
LOCATION:Théâtre Outremont 1248\,  av. Bernard Ouest Montréal (Québec) H2V 1V6
SUMMARY:MARCO CALLIARI / MONTRÉAL (20 ans de MIA DOLCE VITA)
DESCRIPTION: L’album mythique Mia Dolce Vita de Marco Calliari fête ses 20 ans ! Quoi de mieux pour souligner l’occasion que de réunir sept musiciens dans un grand spectacle qui n’attend que vous. Soyez au rendez-vous pour festoyer à l’italienne avec ses plus grandes chansons telles que : l’Americano\,  l’Italiano\,  Bella[..]
END:VEVENT
END:VCALENDAR