BEGIN:VCALENDAR
VERSION:2.0
PRODID:-//eventon.com NONSGML v1.0//EN
BEGIN:VEVENT
UID:69ea356824cff
DTSTAMP:20260423T110616
DTSTART:20260419T023000Z
DTEND:20260419T060000Z
LOCATION:BISTRO À JOJO 1627 RUE SAINT-DENIS
SUMMARY:MARCO CALLIARI / MONTRÉAL (ROCKY & FRIENDS)
DESCRIPTION: Rocky & Friends reçoit Marco Calliari – Live au Bistro à Jojo  18 avril 22h30 Bistro à Jojo | MontréalRocky Laroche accueille un invité spécial : Marco Calliari —Accompagné du House Band solide : Yanik Garon Patrick Cimone À ne pas manquerViens tôt. Reste tard.
END:VEVENT
END:VCALENDAR