BEGIN:VCALENDAR
VERSION:2.0
PRODID:-//eventon.com NONSGML v1.0//EN
BEGIN:VEVENT
UID:69ea356ead7a4
DTSTAMP:20260423T110622
DTSTART:20260607T160000Z
DTEND:20260607T210000Z
LOCATION:ÉPICERIE LA CENA 585 Bd des Laurentides
SUMMARY:MARCO CALLIARI / PIEDMONT
DESCRIPTION: PLUS D'INFORMATIONS À VENIR BIENTÔT! &nbsp; La fête des voisins Italiens !!! Avec le grand succès de l’an passé ???????? C’est avec grand plaisir qu’on vous annonce ???? le retour de la fête italienne pour une deuxième année ???? L’évènement se veut rassembleur\,  en musique ????\,  découverte et dégustation. C’est[..]
END:VEVENT
END:VCALENDAR