BEGIN:VCALENDAR
VERSION:2.0
PRODID:-//eventon.com NONSGML v1.0//EN
BEGIN:VEVENT
UID:69ea3526d681e
DTSTAMP:20260423T110510
DTSTART:20260530T040000Z
DTEND:20260531T035900Z
LOCATION:
SUMMARY:MARCO CALLIARI / MORIN-HEIGHTS
DESCRIPTION: INFORMATIONS À VENIR Après 35 ans de carrière\,  Marco Calliari vous invite à un voyage musical unique! Reconnu pour son style singulier\,  il propose un mélange audacieux où la musique du monde à l’italienne rencontre l’énergie du heavy métal\,  dans un équilibre aussi puissant qu’élégant. Le spectacle alterne nouvelles compositions[..]
END:VEVENT
END:VCALENDAR