BEGIN:VCALENDAR
VERSION:2.0
PRODID:-//eventon.com NONSGML v1.0//EN
BEGIN:VEVENT
UID:69ea34ce326bf
DTSTAMP:20260423T110342
DTSTART:20260517T000000Z
DTEND:20260517T030000Z
LOCATION:CAMPING MAGOG-ORFORD 611\,  ch. Alfred-Desrochers Canton d'Orford\,  Québec J1X 6J4 Canada
SUMMARY:MARCO CALLIARI / ORFORD
DESCRIPTION: Après 35 ans de carrière\,  Marco Calliari vous invite à un voyage musical unique! Reconnu pour son style singulier\,  il propose un mélange audacieux où la musique du monde à l’italienne rencontre l’énergie du heavy métal\,  dans un équilibre aussi puissant qu’élégant. Le spectacle alterne nouvelles compositions et grands classiques[..]
END:VEVENT
END:VCALENDAR