BEGIN:VCALENDAR
VERSION:2.0
PRODID:-//eventon.com NONSGML v1.0//EN
BEGIN:VEVENT
UID:69ea35ed00b56
DTSTAMP:20260423T110829
DTSTART:20260623T040000Z
DTEND:20260624T035900Z
LOCATION:
SUMMARY:MARCO CALLIARI / RAWDON
DESCRIPTION: Après 35 ans de carrière\,  Marco Calliari vous invite à un voyage musical unique! Reconnu pour son style singulier\,  il propose un mélange audacieux où la musique du monde à l’italienne rencontre l’énergie du heavy métal\,  dans un équilibre aussi puissant qu’élégant. Le spectacle alterne nouvelles compositions et grands classiques[..]
END:VEVENT
END:VCALENDAR