BEGIN:VCALENDAR
VERSION:2.0
PRODID:-//eventon.com NONSGML v1.0//EN
BEGIN:VEVENT
UID:69ea345f54835
DTSTAMP:20260423T110151
DTSTART:20260615T233000Z
DTEND:20260616T023000Z
LOCATION:L&#039;ange Cornu 225\,  boul. de L'Ange - Gardien\,  L'Assomption\,  Québec J5W 4M6
SUMMARY:MARCO CALLIARI / L'ASSOMPTION
DESCRIPTION: Après 35 ans de carrière\,  Marco Calliari vous invite à un voyage musical unique! Reconnu pour son style singulier\,  il propose un mélange audacieux où la musique du monde à l’italienne rencontre l’énergie du heavy métal\,  dans un équilibre aussi puissant qu’élégant. Le spectacle alterne nouvelles compositions et grands classiques[..]
END:VEVENT
END:VCALENDAR