BEGIN:VCALENDAR
VERSION:2.0
PRODID:-//eventon.com NONSGML v1.0//EN
BEGIN:VEVENT
UID:69e89430daf44
DTSTAMP:20260422T052608
DTSTART:20251019T150000Z
DTEND:20251019T160000Z
LOCATION:GRAND THÉÂTRE DE QUÉBEC 269\,  boulevard René-Lévesque Est Québec (Québec)  G1R 2B3
SUMMARY:MARCO CALLIARI PRÉSENTE DIRECTEMENT D'ITALIE...TOMMASO NOVI / QUÉBEC
DESCRIPTION: TOMMASO NOVI - FISCHIO LA MUSICA DELLA MIA VITA - MUSIQUE 19 OCTOBRE 2025 DE 11H00 À 12H00 Premier et unique professeur de sifflet musical en Europe\,  l’artiste Toscano Novi mettra en scène une "histoire musical" qui raconte sa vie en musique. À Montréal\,  ce sera Marco Calliari et sa[..]
END:VEVENT
END:VCALENDAR