BEGIN:VCALENDAR
VERSION:2.0
PRODID:-//eventon.com NONSGML v1.0//EN
BEGIN:VEVENT
UID:69e8932c1e607
DTSTAMP:20260422T052148
DTSTART:20250628T010000Z
DTEND:20250628T035900Z
LOCATION:Ultravox Viale della Piramide
SUMMARY:MARCO CALLIARI / FIRENZE\,  TOSCANA\,  ITALIA (avec I matti delle giuncaie\,  Borrkia et Tommaso Novi)
DESCRIPTION: Informations à venir
END:VEVENT
END:VCALENDAR