BEGIN:VCALENDAR
VERSION:2.0
PRODID:-//eventon.com NONSGML v1.0//EN
BEGIN:VEVENT
UID:69e73c9cb9aec
DTSTAMP:20260421T050012
DTSTART:20250614T000000Z
DTEND:20250614T030000Z
LOCATION:LA BASOCHE 120 Rue Principale\,  Gatineau\,  QC J9H 3M3
SUMMARY:MARCO CALLIARI / GATINEAU-AYLMER (LANCEMENT NOUVEL ALBUM - PEUR POURPRE)
DESCRIPTION: Peur Pourpre\,  un 7e opus en solo pour Marco Calliari. Celui qui nous a toujours démontré que la seule langue universelle qui nous importe est celle de la musique. Celle qui réunit et qui brise les frontières. Voici un nouveau chapitre qui s’ouvre pour ce troubadour rassembleur. Un premier album[..]
END:VEVENT
END:VCALENDAR