BEGIN:VCALENDAR
VERSION:2.0
PRODID:-//eventon.com NONSGML v1.0//EN
BEGIN:VEVENT
UID:69e893bdcad14
DTSTAMP:20260422T052413
DTSTART:20250322T230000Z
DTEND:20250323T033000Z
LOCATION:Centre Desjardins Jean-Coutu 11\,  4ième Avenue Ouest\,  LaSarre\,  QC\,  Canada 11\,  4ième Avenue Ouest
SUMMARY:MARCO CALLIARI / LA SARRE
DESCRIPTION: Spectacle Bénéfice Coop le RePère &nbsp; 22 mars 2025 19h30 – 23h00 / Entrée: 19h00 Centre Desjardins Jean-Coutu 11\,  4ième Avenue Ouest\,  LaSarre\,  QC\,  Canada 19h30: Guillaume Laroche 20h15: David Fleury 21h: Marco Calliari en quartet
END:VEVENT
END:VCALENDAR