BEGIN:VCALENDAR
VERSION:2.0
PRODID:-//eventon.com NONSGML v1.0//EN
BEGIN:VEVENT
UID:69e893a50da24
DTSTAMP:20260422T052349
DTSTART:20250323T210000Z
DTEND:20250324T020000Z
LOCATION:COURANT ALTERNATIF 39 1re Ave O\,  Amos\,  QC J9T 1T7
SUMMARY:MARCO CALLIARI / AMOS
DESCRIPTION: Courant Alternatif présente Marco Calliari Événement en personne 23 mars 2025 19h30 – 21h00 / Entrée: 17h00 Courant Alternatif - Le C.A. 39\,  1ère avenue ouest\,  Amos\,  QC\,  Canada &nbsp; BILLETS: &nbsp; https://lepointdevente.com/billets/dkt250323001
END:VEVENT
END:VCALENDAR