BEGIN:VCALENDAR
VERSION:2.0
PRODID:-//eventon.com NONSGML v1.0//EN
BEGIN:VEVENT
UID:69e89406a20ea
DTSTAMP:20260422T052526
DTSTART:20241103T150000Z
DTEND:20241103T160000Z
LOCATION:GRAND THÉÂTRE DE QUÉBEC 269\,  boulevard René-Lévesque Est Québec (Québec)  G1R 2B3
SUMMARY:MARCO CALLIARI PRÉSENTE DIRECTEMENT D'ITALIE... BORRKIA MATTI (TOSCANA) / QUÉBEC
DESCRIPTION: Borrkia Matti. Préparez-vous à être entraîné dans un tourbillon d'énergie et de rythmes vibrants\,  avec cette fusion du groupe Hard Folk italien I Matti delle Giuncaie et du rocker Borrkia\,  pour une clôture folk'n'roll spectaculaire. &nbsp; https://www.facebook.com/borrkiaofficial https://www.facebook.com/mattidellegiuncaie &nbsp;
END:VEVENT
END:VCALENDAR