BEGIN:VCALENDAR
VERSION:2.0
PRODID:-//eventon.com NONSGML v1.0//EN
BEGIN:VEVENT
UID:69e73d23cf63f
DTSTAMP:20260421T050227
DTSTART:20240710T233000Z
DTEND:20240711T013000Z
LOCATION:PARTERRE DU SERVICE DES LOISIRS 325 chemin de la Grande-Côte
SUMMARY:MARCO CALLIARI / ROSEMÈRE
DESCRIPTION: Venez vous réchauffer aux rythmes endiablés à l'italienne de Marco Calliari. Ce nouvel album\,  qui marque les 30 ans de carrière de Marco Calliari\,  est constitué de 14 chansons et propose un cocktail de pièces où la musique du monde du monde à l’italienne et le heavy metal se côtoient[..]
END:VEVENT
END:VCALENDAR