BEGIN:VCALENDAR
VERSION:2.0
PRODID:-//eventon.com NONSGML v1.0//EN
BEGIN:VEVENT
UID:69e73e73783b9
DTSTAMP:20260421T050803
DTSTART:20240622T230000Z
DTEND:20240623T020000Z
LOCATION:Le Buck  269 rue principale Saint-Sauveur\,  QC\,  Canada J0R 1R0
SUMMARY:MARCO CALLIARI / SAINT-SAUVEUR
DESCRIPTION: Venez vous réchauffer aux rythmes endiablés à l'italienne de Marco Calliari. Ce nouvel album\,  qui marque les 30 ans de carrière de Marco Calliari\,  est constitué de 14 chansons et propose un cocktail de pièces où la musique du monde du monde à l’italienne et le heavy metal se côtoient[..]
END:VEVENT
END:VCALENDAR