BEGIN:VCALENDAR
VERSION:2.0
PRODID:-//eventon.com NONSGML v1.0//EN
BEGIN:VEVENT
UID:69e660bac9b2a
DTSTAMP:20260420T132202
DTSTART:20241030T040000Z
DTEND:20241031T035900Z
LOCATION:Sainte-Clotilde-de-Horton\,  QC\,  Canada\,  J0A 1H0 Sainte-Clotilde-de-Horton\,  QC\,  Canada\,  J0A 1H0
SUMMARY:MARCO CALLIARI PRÉSENTE DIRECTEMENT D'ITALIE... BORRKIA MATTI (TOSCANA) / SAINTE-CLOTILDE-DE-HORTON (COOP DU COEUR)
DESCRIPTION: Borrkia Matti Coop du Coeur\,  2 rue de l'Église\,  Sainte-Clotilde-de-Horton\,  QC J0A 1H0\,  Canada Plongez au cœur d'une série de spectacles exceptionnels\,  mettant en scène des talents uniques\,  venus directement d'Italie pour vous offrir des soirées mémorables! &nbsp; Mercredi le 30 octobre 2024 La finale grandiose de cette trilogie aura[..]
END:VEVENT
END:VCALENDAR