BEGIN:VCALENDAR
VERSION:2.0
PRODID:-//eventon.com NONSGML v1.0//EN
BEGIN:VEVENT
UID:69e893a5122d4
DTSTAMP:20260422T052349
DTSTART:20231014T233000Z
DTEND:20231015T001500Z
LOCATION:Centre culturel de Pierrefonds 13850\,  boulevard Gouin Ouest Montréal (Québec) H8Z 1X7
SUMMARY:MARCO CALLIARI PRÉSENTE DIRECTEMENT D'ITALIE...TOMMASO NOVI / PIERREFONDS ( Centre culturel de Pierrefonds )
DESCRIPTION: Premier et unique professeur de sifflet musical en Europe\,  l’artiste Toscano mettra en scène un « histoire musical » qui raconte sa vie en musique. Sur la scène musicale depuis le début des années 2000\,  Tommaso Novi est l’un des plus importants siffleurs d’Italie\,  il a collaboré avec Paolo Fresu\, [..]
END:VEVENT
END:VCALENDAR