BEGIN:VCALENDAR
VERSION:2.0
PRODID:-//eventon.com NONSGML v1.0//EN
BEGIN:VEVENT
UID:69e8c9794e494
DTSTAMP:20260422T091329
DTSTART:20231014T000000Z
DTEND:20231014T030000Z
LOCATION:Taverne Lady Davidson 3400 Rue Ontario Est  Montréal\,  QC H1W 1P9
SUMMARY:MARCO CALLIARI PRÉSENTE DIRECTEMENT D'ITALIE...TOMMASO NOVI / MONTRÉAL ( TAVERNE LADY DAVIDSON )
DESCRIPTION: Premier et unique professeur de sifflet musical en Europe\,  l’artiste Toscano mettra en scène un "histoire musical" qui raconte sa vie en musique. Sur la scène musicale depuis le début des années 2000\,  Tommaso Novi est l’un des plus importants siffleurs d’Italie\,  il a collaboré avec Paolo Fresu\,  avec le[..]
END:VEVENT
END:VCALENDAR