BEGIN:VCALENDAR
VERSION:2.0
PRODID:-//eventon.com NONSGML v1.0//EN
BEGIN:VEVENT
UID:69e89406311e3
DTSTAMP:20260422T052526
DTSTART:20230727T000000Z
DTEND:20230727T020000Z
LOCATION:LA CAGE MONT-LAURIER 700 boul. Albiny-Paquette\,  Mont-Laurier\,  J9L 1L4
SUMMARY:MARCO CALLIARI / MONT-LAURIER
DESCRIPTION: Après 30 ans de carrière\,  le nouveau spectacle de Marco Calliari est un grand voyage qui retrace son impressionnant parcours artistique et ses fortes influences. Un cocktail explosif de pièces dans lesquelles la musique du monde à l’italienne et le heavy métal se côtoient très discrètement\,  mais habilement. Avec plusieurs[..]
END:VEVENT
END:VCALENDAR