BEGIN:VCALENDAR
VERSION:2.0
PRODID:-//eventon.com NONSGML v1.0//EN
BEGIN:VEVENT
UID:69e8938987b13
DTSTAMP:20260422T052321
DTSTART:20230614T230000Z
DTEND:20230615T010000Z
LOCATION:CASA D&#039;ITALIA 505 Jean-Talon est
SUMMARY:MARCO CALLIARI PRÉSENTE DIRECTEMENT D'ITALIE...BANDABARDÒ et CISCO avec GIOBBE COVATTA & MARCO CALLIARI / MONTRÉAL
DESCRIPTION: BANDABARDÒ ET CISCO Le plus passionné\,  bruyant et déchaîné groupe de folk rock italien encor actif. En 2023\,  Migrazioni Sonore\,  projet d’internationalisation de la musique italienne actif depuis 2010\,  amène avec lui en France et au Canada Bandabardò\,  Cisco\,  Giobbe Covatta\,   et Marco Calliari. En juin\,  les Toscans de Bandabardò\, [..]
END:VEVENT
END:VCALENDAR