BEGIN:VCALENDAR
VERSION:2.0
PRODID:-//eventon.com NONSGML v1.0//EN
BEGIN:VEVENT
UID:69e89430daf4d
DTSTAMP:20260422T052608
DTSTART:20230610T020000Z
DTEND:20230610T033000Z
LOCATION:Corso Italia (Preston Street) PRESTON STREET
SUMMARY:MARCO CALLIARI / OTTAWA / ITALIAN WEEK
DESCRIPTION: Après 30 ans de carrière\,  le nouveau spectacle de Marco Calliari est un grand voyage qui retrace son impressionnant parcours artistique et ses fortes influences. Un cocktail explosif de pièces dans lesquelles la musique du monde à l’italienne et le heavy métal se côtoient très discrètement\,  mais habilement. Avec plusieurs[..]
END:VEVENT
END:VCALENDAR