BEGIN:VCALENDAR
VERSION:2.0
PRODID:-//eventon.com NONSGML v1.0//EN
BEGIN:VEVENT
UID:69e8936a34047
DTSTAMP:20260422T052250
DTSTART:20230115T003000Z
DTEND:20230115T020000Z
LOCATION:Théâtre La Comédie de Montréal 1113 Boul. de Maisonneuve E\,  Montréal
SUMMARY:MARCO CALLIARI / MONTRÉAL
DESCRIPTION: Le Cabaret sous les arbres se déplace (au chaud) et vous propose un show unique de Marco Calliari !
END:VEVENT
END:VCALENDAR