BEGIN:VCALENDAR
VERSION:2.0
PRODID:-//eventon.com NONSGML v1.0//EN
BEGIN:VEVENT
UID:69e893dd349a4
DTSTAMP:20260422T052445
DTSTART:20230528T000000Z
DTEND:20230528T020000Z
LOCATION:Délires et Délices Microbrasserie 1626 ave Bourgogne\,  Chambly
SUMMARY:MARCO CALLIARI / CHAMBLY
DESCRIPTION: Après 30 ans de carrière\,  le nouveau spectacle de Marco Calliari est un grand voyage qui retrace son impressionnant parcours artistique et ses fortes influences. Un cocktail explosif de pièces dans lesquelles la musique du monde à l’italienne et le heavy métal se côtoient très discrètement\,  mais habilement. Avec plusieurs[..]
END:VEVENT
END:VCALENDAR