BEGIN:VCALENDAR
VERSION:2.0
PRODID:-//eventon.com NONSGML v1.0//EN
BEGIN:VEVENT
UID:69e8938989807
DTSTAMP:20260422T052321
DTSTART:20230101T013000Z
DTEND:20230101T033000Z
LOCATION:LE PRINCE ÉLIE 2382 Ave Principale
SUMMARY:MARCO CALLIARI EN DUO / Saint-Élie-de-Caxton
DESCRIPTION: Soyez de la partie pour fracasser l'année avec nul autre que Marco Calliari! Une soirée festive et enivrante vous attend pour célébrer l'arrivée de l'année 2023.
END:VEVENT
END:VCALENDAR