BEGIN:VCALENDAR
VERSION:2.0
PRODID:-//eventon.com NONSGML v1.0//EN
BEGIN:VEVENT
UID:69e8ab97d187a
DTSTAMP:20260422T070559
DTSTART:20221120T190000Z
DTEND:20221120T203000Z
LOCATION:ÉGLISE SAINTE-THÉRÈSE 127\,  rue Principale Sud\,  Delson\,  QC\,  Canada
SUMMARY:MARCO CALLIARI / DELSON
DESCRIPTION: CALLIARI Bang! Bang! Ce nouvel album\,  qui marque les 30 ans de carrière de Marco Calliari\,  est constitué de 14 chansons et propose un cocktail de pièces où la musique du monde du monde à l'italienne et le heavy metal se côtoient discrètement\,  mais habillement. Calliari Bang! Bang! est une riche collaboration[..]
END:VEVENT
END:VCALENDAR