BEGIN:VCALENDAR
VERSION:2.0
PRODID:-//eventon.com NONSGML v1.0//EN
BEGIN:VEVENT
UID:69e73a775aa33
DTSTAMP:20260421T045103
DTSTART:20220922T210000Z
DTEND:20220923T010000Z
LOCATION:Pub du Charme 1018 rue Dubois\,  Acton Vale\,  QC J0H 1A0
SUMMARY:MARCO CALLIARI / ACTON VALE (JOURNÉE P)
DESCRIPTION: Marco Calliari brise l’isolement social un clip à la fois &nbsp; Montréal\,  le 13 septembre 2021– Le Regroupement québécois du parrainage civique (RQPC)\,  rassemblant une vingtaine d’organismes à travers le Québec\,  célèbre la Journée québécoise du parrainage civique\,  intitulée la « Journée P- Partage\,  Parrainage »\,  le 25 septembre prochain. &nbsp; À[..]
END:VEVENT
END:VCALENDAR