BEGIN:VCALENDAR
VERSION:2.0
PRODID:-//eventon.com NONSGML v1.0//EN
BEGIN:VEVENT
UID:69e892ada9519
DTSTAMP:20260422T051941
DTSTART:20220820T000000Z
DTEND:20220820T013000Z
LOCATION:LE QUARTIER DES SPECTACLES 
SUMMARY:MARCO CALLIARI / ITALFEST MTL - MONTRÉAL
DESCRIPTION: Ce nouvel album\,  qui marque les 30 ans de carrière de Marco Calliari\,  est constitué de 14 chansons et propose un cocktail de pièces où la musique du monde du monde à l’italienne et le heavy metal se côtoient discrètement\,  mais habillement. Calliari Bang! Bang! est une riche collaboration artistique mettant de l’avant[..]
END:VEVENT
END:VCALENDAR