BEGIN:VCALENDAR
VERSION:2.0
PRODID:-//eventon.com NONSGML v1.0//EN
BEGIN:VEVENT
UID:69e8945b057fa
DTSTAMP:20260422T052651
DTSTART:20220410T000000Z
DTEND:20220410T023000Z
LOCATION:CENTRE CULTUREL DE WEEDON 280 9e Av\,  Weedon\,  QC J0B 3J0
SUMMARY:MARCO CALLIARI / WEEDON
DESCRIPTION: Ce nouvel album\,  qui marque les 30 ans de carrière de Marco Calliari\,  est constitué de 14 chansons et propose un cocktail de pièces où la musique du monde du monde à l’italienne et le heavy metal se côtoient discrètement\,  mais habillement. Calliari Bang! Bang! est une riche collaboration artistique mettant de l’avant[..]
END:VEVENT
END:VCALENDAR